Workbook

Sheet Summary
B2: =""&H3&"" -> Autumn 2026 medium-term forecast (MTF-2026Q3)
B3: Indicator | F3: Unit | G3: Actual data | H3: Autumn 2026 medium-term forecast (MTF-2026Q3) | K3: Difference vis-à-vis the summer 2026 forecast (MTF-2026Q2)
G4: 2025 | H4: 2026 | I4: 2027 | J4: 2028 | K4: 2026 | L4: 2027 | M4: 2028
B5: Price developments
C6: HICP inflation | F6: year-on-year changes in % | G6: 4.2408291 | H6: 3.5869025 | I6: 3.1201413 | J6: 3.7679936 | K6: -0.4 | L6: 0.2 | M6: 0.4
C7: CPI inflation | F7: year-on-year changes in % | G7: 4.0000545 | H7: 3.5545264 | I7: 3.2513248 | J7: 3.707743 | K7: -0.2 | L7: 0.4 | M7: 0.4
C8: GDP deflator | F8: year-on-year changes in % | G8: 4.1867444 | H8: 4.099365 | I8: 3.2439673 | J8: 3.4576258 | K8: -0.5 | L8: 0.3 | M8: 0.5
B10: Economic activity
C11: Gross domestic product | F11: year-on-year changes in %, constant prices | G11: 0.80741869 | H11: 0.82794624 | I11: 1.8966982 | J11: 2.6639048 | K11: 0.3 | L11: 0 | M11: 0.1
D12: Private consumption | F12: year-on-year changes in %, constant prices | G12: 0.27937855 | H12: 0.53680059 | I12: 1.2719179 | J12: 1.160596 | K12: 0.4 | L12: -0.1 | M12: 0.1
D13: General government final consumption | F13: year-on-year changes in %, constant prices | G13: 1.105816 | H13: 0.58372302 | I13: 0.75198421 | J13: 0.74247725 | K13: -0.4 | L13: 0.3 | M13: -0.5
D14: Gross fixed capital formation | F14: year-on-year changes in %, constant prices | G14: 2.2243916 | H14: -1.6531926 | I14: -1.2055551 | J14: 3.8227537 | K14: 3.1 | L14: 0.8 | M14: -0.2
D15: Exports of goods and services | F15: year-on-year changes in %, constant prices | G15: 4.1301939 | H15: 2.5962507 | I15: 3.7755308 | J15: 4.3453425 | K15: 1.5 | L15: -0.1 | M15: -0.1
D16: Imports of goods and services | F16: year-on-year changes in %, constant prices | G16: 3.9183972 | H16: 2.7381651 | I16: 2.3674451 | J16: 3.3068975 | K16: 2.4 | L16: -0.1 | M16: -0.3
D17: Net exports | F17: EUR millions at constant prices | G17: 3708.059 | H17: 3676.8607 | I17: 5115.0684 | J17: 6318.3033 | K17: -731.9 | L17: -759 | M17: -574.9
C18: Output gap | F18: % of potential output | G18: -0.27720812 | H18: -0.85891734 | I18: -0.87173624 | J18: -0.23762436 | K18: 0.2 | L18: 0.2 | M18: 0.2
C19: Gross domestic product | F19: EUR millions at current prices | G19: 136754.31 | H19: 143539.04 | I19: 151006.22 | J19: 160389.2 | K19: -266.4 | L19: 172.2 | M19: 995.9
B21: Labour market
C22: Employment | F22: thousands of persons, ESA 2010 | G22: 2427.057 | H22: 2426.804 | I22: 2423.5007 | J22: 2423.8613 | K22: 5.6 | L22: 5.4 | M22: 3.7
C23: Employment | F23: year-on-year changes in %, ESA 2010 | G23: -0.13304994 | H23: -0.010425058 | I23: -0.13611739 | J23: 0.014881204 | K23: 0.2 | L23: 0 | M23: -0.1
C24: Number of unemployed | F24: thousands of persons 1) | G24: 149.537 | H24: 158.88882 | I24: 164.93307 | J24: 163.41008 | K24: -5.8 | L24: -8.9 | M24: -8
C25: Unemployment rate | F25: % | G25: 5.417782 | H25: 5.7683854 | I25: 6.0041492 | J25: 5.9624659 | K25: -0.2 | L25: -0.3 | M25: -0.2
C26: NAIRU estimate2) | F26: % | G26: 6.0862981 | H26: 6.0590399 | I26: 6.0387361 | J26: 6.0254147 | K26: 0 | L26: 0 | M26: 0
C27: Labour productivity3) | F27: year-on-year changes in % | G27: 0.94172159 | H27: 0.83845871 | I27: 2.0355864 | J27: 2.6486294 | K27: 0 | L27: 0 | M27: 0.1
C28: Nominal productivity4) | F28: year-on-year changes in % | G28: 5.1678935 | H28: 4.9721952 | I28: 5.3455874 | J28: 6.197835 | K28: -0.4 | L28: 0.3 | M28: 0.6
C29: Nominal compensation per employee | F29: year-on-year changes in %, ESA 2010 | G29: 6.24693 | H29: 4.2566775 | I29: 4.8975555 | J29: 5.1315653 | K29: 0.3 | L29: 0.6 | M29: 0
C30: Nominal wages5) | F30: year-on-year changes in % | G30: 5.7216999 | H30: 4.6332621 | I30: 4.4347612 | J30: 4.9428961 | K30: 0.5 | L30: 0.2 | M30: 0.1
C31: Real wages6) | F31: year-on-year changes in % | G31: 1.6464123 | H31: 1.0479381 | I31: 1.1403081 | J31: 1.1302843 | K31: 0.75364347 | L31: -0.10221991 | M31: -0.39567886
B33: Households and non-profit institutions serving households
C34: Disposable income | F34: constant prices | G34: -1.1046321 | H34: -0.20052549 | I34: 2.2143539 | J34: 1.3393319 | K34: 0.3 | L34: -0.1 | M34: 0
C35: Saving ratio7) | F35: % of disposable income | G35: 7.1149182 | H35: 6.8855591 | I35: 7.882825 | J35: 8.0452955 | K35: 0.3 | L35: 0.4 | M35: 0.4
B37: General government sector8)
C38: Total revenue | F38: % of GDP | G38: 43.494902 | H38: 43.587215 | I38: 41.944648 | J38: 41.091487 | K38: 0.76110301 | L38: 0.48606827 | M38: 0.29136417
C39: Total expenditure | F39: % of GDP | G39: 47.425746 | H39: 47.945442 | I39: 47.951784 | J39: 46.624082 | K39: 0.61638603 | L39: 0.51847343 | M39: 0.090749547
C40: General government balance9) | F40: % of GDP | G40: -4.4505397 | H40: -4.3645691 | I40: -4.6794333 | J40: -4.1194182 | K40: 0.14471698 | L40: -0.032405167 | M40: 0.20061463
C41: Cyclical component | F41: % of trend GDP | G41: -0.054346356 | H41: -0.25188011 | I41: -0.28072589 | J41: -0.10504623 | K41: 0.074555568 | L41: 0.065150807 | M41: 0.055250627
C42: Structural balance | F42: % of trend GDP | G42: -4.4462832 | H42: -4.1266225 | I42: -4.4053297 | J42: -4.014372 | K42: 0.070135602 | L42: -0.097548411 | M42: 0.145364
C43: Cyclically adjusted primary balance | F43: % of trend GDP | G43: -2.8507594 | H43: -2.4179698 | I43: -2.6609244 | J43: -2.1945323 | K43: 0.15762505 | L43: -0.016510313 | M43: 0.23404428
C44: Fiscal stance10) | F44: year-on-year change in p.p. | G44: 1.2463431 | H44: 0.43278959 | I44: -0.24295464 | J44: 0.46639213 | K44: 0.13658201 | L44: -0.17413537 | M44: 0.25055459
C45: General government gross debt | F45: % of GDP | G45: 61.392441 | H45: 62.770032 | I45: 64.093674 | J45: 64.332805 | K45: 0.25809354 | L45: 0.10483251 | M45: -0.29570328
...

Sheet GDP
B1: Tab. 1 Gross domestic product
B2: =" "&Summary!H3&" - GDP components [level]" -> Autumn 2026 medium-term forecast (MTF-2026Q3) - GDP components [level]
B3: =Summary!B3 -> Indicator | G3: =Summary!F3 -> Unit | H3: Actual data | I3: 2026 | J3: 2027 | K3: 2028 | L3: 2025 | P3: 2026 | T3: 2027 | X3: 2028
H4: 2025 | L4: Q1 | M4: Q2 | N4: Q3 | O4: Q4 | P4: Q1 | Q4: Q2 | R4: Q3 | S4: Q4 | T4: Q1 | U4: Q2 | V4: Q3 | W4: Q4 | X4: Q1 | Y4: Q2 | Z4: Q3 | AA4: Q4
C6: Gross domestic product | G6: mil. EUR, curr. p. | H6: 136754.31 | I6: 143539.04 | J6: 151006.22 | K6: 160389.2 | L6: 33300.591 | M6: 34011.427 | N6: 34483.103 | O6: 34959.191 | P6: 35496.919 | Q6: 35844.722 | R6: 35969.109 | S6: 36228.287 | T6: 36855.947 | U6: 37447.776 | V6: 38063.346 | W6: 38639.148 | X6: 39237.017 | Y6: 39842.583 | Z6: 40397.768 | AA6: 40911.829
E7: Private consumption | G7: mil. EUR, curr. p. | H7: 80249.541 | I7: 83763.576 | J7: 87600.698 | K7: 91976.089 | L7: 19713.185 | M7: 20030.933 | N7: 20186.376 | O7: 20319.047 | P7: 20634.635 | Q7: 20841.499 | R7: 21035.967 | S7: 21251.474 | T7: 21529.01 | U7: 21780.731 | V7: 22024.181 | W7: 22266.775 | X7: 22567.556 | Y7: 22858.597 | Z7: 23140.002 | AA7: 23409.934
E8: General government final consumption | G8: mil. EUR, curr. p. | H8: 29272.827 | I8: 30644.182 | J8: 31826.37 | K8: 33065.412 | L8: 7153.483 | M8: 7298.572 | N8: 7363.174 | O8: 7457.598 | P8: 7566.032 | Q8: 7651.775 | R8: 7677.385 | S8: 7748.99 | T8: 7846.179 | U8: 7909.498 | V8: 7992.882 | W8: 8077.811 | X8: 8159.912 | Y8: 8236.918 | Z8: 8303.525 | AA8: 8365.057
E9: Gross fixed capital formation | G9: mil. EUR, curr. p. | H9: 28077.732 | I9: 28062.886 | J9: 28748.935 | K9: 30589.912 | L9: 6811.9 | M9: 7170.252 | N9: 6958.767 | O9: 7136.813 | P9: 6606.856 | Q9: 7225.044 | R9: 7132.9692 | S9: 7098.017 | T9: 7086.6868 | U9: 7101.8138 | V9: 7210.4835 | W9: 7349.9506 | X9: 7473.33 | Y9: 7589.0374 | Z9: 7709.8916 | AA9: 7817.6527
E10: Domestic demand | G10: mil. EUR, curr. p. | H10: 137600.1 | I10: 142470.64 | J10: 148176 | K10: 155631.41 | L10: 33678.568 | M10: 34499.757 | N10: 34508.317 | O10: 34913.458 | P10: 34807.523 | Q10: 35718.318 | R10: 35846.322 | S10: 36098.481 | T10: 36461.876 | U10: 36792.043 | V10: 37227.546 | W10: 37694.537 | X10: 38200.798 | Y10: 38684.553 | Z10: 39153.418 | AA10: 39592.644
D11: Export of goods and services | G11: mil. EUR, curr. p. | H11: 116539.21 | I11: 122492.84 | J11: 130363.96 | K11: 138092.6 | L11: 29149.105 | M11: 29004.253 | N11: 28772.249 | O11: 29613.601 | P11: 29483.511 | Q11: 30674.642 | R11: 30980.43 | S11: 31354.253 | T11: 31837.958 | U11: 32285.588 | V11: 32857.641 | W11: 33382.774 | X11: 33893.831 | Y11: 34261.985 | Z11: 34729.648 | AA11: 35207.133
D12: Import of goods and services | G12: mil. EUR, curr. p. | H12: 116805.27 | I12: 122342.38 | J12: 128750.08 | K12: 134566.41 | L12: 29804.845 | M12: 28981.511 | N12: 28576.662 | O12: 29442.254 | P12: 29270.298 | Q12: 30564.756 | R12: 31066.802 | S12: 31440.525 | T12: 31744.17 | U12: 31934.483 | V12: 32327.195 | W12: 32744.237 | X12: 33164.397 | Y12: 33411.422 | Z12: 33793.565 | AA12: 34197.022
D13: Net exports | G13: mil. EUR, curr. p. | H13: -266.064 | I13: 150.45459 | J13: 1613.8765 | K13: 3526.1905 | L13: -655.74 | M13: 22.742 | N13: 195.587 | O13: 171.347 | P13: 213.213 | Q13: 109.886 | R13: -86.372086 | S13: -86.272326 | T13: 93.788241 | U13: 351.10554 | V13: 530.44584 | W13: 638.53686 | X13: 729.43369 | Y13: 850.56308 | Z13: 936.08262 | AA13: 1010.1111
B15: =" "&Summary!H3&" - GDP components [change over previous period]" -> Autumn 2026 medium-term forecast (MTF-2026Q3) - GDP components [change over previous period]
B16: =B3 -> Indicator | G16: =G3 -> Unit | H16: =H$3 -> Actual data | I16: =I$3 -> 2026 | J16: =J$3 -> 2027 | K16: =K$3 -> 2028 | L16: 2025 | P16: =P$3 -> 2026 | T16: =T$3 -> 2027 | X16: =X$3 -> 2028
H17: =$H$4 -> 2025 | L17: Q1 | M17: Q2 | N17: Q3 | O17: Q4 | P17: Q1 | Q17: Q2 | R17: Q3 | S17: Q4 | T17: Q1 | U17: Q2 | V17: Q3 | W17: Q4 | X17: Q1 | Y17: Q2 | Z17: Q3 | AA17: Q4
C19: Gross domestic product | G19: growth in %, const. p. | H19: 0.80741869 | I19: 0.82794624 | J19: 1.8966982 | K19: 2.6639048 | L19: 0.1451267 | M19: 0.18649611 | N19: 0.26455112 | O19: 0.24138021 | P19: 0.19421766 | Q19: 0.20655736 | R19: 0.15353665 | S19: 0.15893469 | T19: 0.43876169 | U19: 0.66864367 | V19: 0.95849834 | W19: 0.85457586 | X19: 0.66319331 | Y19: 0.53418098 | Z19: 0.41256734 | AA19: 0.33689751
E20: Private consumption | G20: growth in %, const. p. | H20: 0.27937855 | I20: 0.53680059 | J20: 1.2719179 | K20: 1.160596 | L20: -0.83654616 | M20: 0.45643938 | N20: -0.24675413 | O20: -0.22199448 | P20: 0.49857726 | Q20: 0.036323657 | R20: 0.29516918 | S20: 0.15914424 | T20: 0.2943719 | U20: 0.40446338 | V20: 0.53260335 | W20: 0.49989498 | X20: 0.32011062 | Y20: 0.17787945 | Z20: -0.037482405 | AA20: -0.0771187
E21: General government final consumption | G21: growth in %, const. p. | H21: 1.105816 | I21: 0.58372302 | J21: 0.75198421 | K21: 0.74247725 | L21: 0.20078995 | M21: 0.12544825 | N21: 0.21884304 | O21: 0.055726497 | P21: 0.15540269 | Q21: 0.47797938 | R21: -0.27260404 | S21: 0.092672868 | T21: 0.59381539 | U21: -0.040064459 | V21: 0.17712859 | W21: 0.1863029 | X21: 0.24123341 | Y21: 0.24049809 | Z21: 0.14565654 | AA21: 0.1109513
E22: Gross fixed capital formation | G22: growth in %, const. p. | H22: 2.2243916 | I22: -1.6531926 | J22: -1.2055551 | K22: 3.8227537 | L22: 5.9406461 | M22: 3.6776349 | N22: -3.0989896 | O22: 1.3605723 | P22: -6.0035181 | Q22: 7.8332349 | R22: -2.2968911 | S22: -1.350564 | T22: -1.4590288 | U22: -0.23974622 | V22: 0.89117804 | W22: 1.3015831 | X22: 1.058581 | Y22: 0.95951615 | Z22: 0.9056789 | AA22: 0.71022424
E23: Domestic demand | G23: growth in %, const. p. | H23: 0.86320166 | I23: 0.071096564 | J23: 0.63747464 | K23: 1.6325195 | L23: 0.76022777 | M23: 1.0809639 | N23: -0.78127043 | O23: 0.17506055 | P23: -0.98677295 | Q23: 1.7386244 | R23: -0.38799517 | S23: -0.17875277 | T23: -0.016869537 | U23: 0.17842928 | V23: 0.53454689 | W23: 0.6035807 | X23: 0.45960066 | Y23: 0.35616257 | Z23: 0.20061163 | AA23: 0.12992548
D24: Export of goods and services | G24: growth in %, const. p. | H24: 4.1301939 | I24: 2.5962507 | J24: 3.7755308 | K24: 4.3453425 | L24: 4.9005114 | M24: -0.70256203 | N24: -2.4199471 | O24: 1.8651604 | P24: 1.2504583 | Q24: 2.1301316 | R24: -0.70000009 | S24: 0.4389508 | T24: 1.1124029 | U24: 1.391561 | V24: 1.5039705 | W24: 1.2238846 | X24: 1.0611088 | Y24: 0.81659824 | Z24: 0.80684154 | AA24: 0.76290473
D25: Import of goods and services | G25: growth in %, const. p. | H25: 3.9183972 | I25: 2.7381651 | J25: 2.3674451 | K25: 3.3068975 | L25: 5.7979217 | M25: -1.7951705 | N25: -3.0686954 | O25: 1.9213775 | P25: 1.7531054 | Q25: 2.7828903 | R25: -1.0960303 | S25: 0.20383652 | T25: 0.61845941 | U25: 0.88624944 | V25: 1.0679441 | W25: 0.97027413 | X25: 0.86299037 | Y25: 0.64099285 | Z25: 0.60351965 | AA25: 0.56901488
D26: Net exports | G26: growth in %, const. p. | H26: 9.5380157 | I26: -0.84136382 | J26: 39.115098 | K26: 23.52334 | L26: -18.540661 | M26: 36.364575 | N26: 13.430152 | O26: 0.6914527 | P26: -9.3720531 | Q26: -13.358114 | R26: 10.447327 | S26: 6.3652008 | T26: 12.841457 | U26: 12.090826 | V26: 9.8133651 | W26: 5.6720622 | X26: 4.3813761 | Y26: 3.6603709 | Z26: 4.0035521 | AA26: 3.7116637
B28: =" "&Summary!H3&" - GDP componets [contributions to growth]" -> Autumn 2026 medium-term forecast (MTF-2026Q3) - GDP componets [contributions to growth]
B29: =B3 -> Indicator | G29: =G3 -> Unit | H29: =H$3 -> Actual data | I29: =I$3 -> 2026 | J29: =J$3 -> 2027 | K29: =K$3 -> 2028 | L29: 2025 | P29: =P$3 -> 2026 | T29: =T$3 -> 2027 | X29: =X$3 -> 2028
H30: =$H$4 -> 2025 | L30: Q1 | M30: Q2 | N30: Q3 | O30: Q4 | P30: Q1 | Q30: Q2 | R30: Q3 | S30: Q4 | T30: Q1 | U30: Q2 | V30: Q3 | W30: Q4 | X30: Q1 | Y30: Q2 | Z30: Q3 | AA30: Q4
C32: Gross domestic product | G32: growth in %, const. p. | H32: 0.80741869 | I32: 0.82794624 | J32: 1.8966982 | K32: 2.6639048 | L32: 0.1451267 | M32: 0.18649611 | N32: 0.26455112 | O32: 0.24138021 | P32: 0.19421766 | Q32: 0.20655736 | R32: 0.15353665 | S32: 0.15893469 | T32: 0.43876169 | U32: 0.66864367 | V32: 0.95849834 | W32: 0.85457586 | X32: 0.66319331 | Y32: 0.53418098 | Z32: 0.41256734 | AA32: 0.33689751
E33: Private consumption | G33: p. p., const. p. | H33: 0.15777725 | I33: 0.30156675 | J33: 0.71248169 | K33: 0.64613697 | L33: -0.47541848 | M33: 0.25685681 | N33: -0.13923262 | O33: -0.12462305 | P33: 0.278597 | Q33: 0.020358735 | R33: 0.1651558 | S33: 0.089171784 | T33: 0.16494296 | U33: 0.22630381 | V33: 0.29721817 | W33: 0.27778851 | X33: 0.1772579 | Y33: 0.098163174 | Z33: -0.02061144 | AA33: -0.042217228
E34: General government final consumption | G34: p. p., const. p. | H34: 0.21680698 | I34: 0.11478386 | J34: 0.14751274 | K34: 0.14401159 | L34: 0.039507032 | M34: 0.024696669 | N34: 0.043056804 | O34: 0.010959046 | P34: 0.030504539 | Q34: 0.0937879 | R34: -0.053634557 | S34: 0.018155708 | T34: 0.11625848 | U34: -0.0078560166 | V34: 0.034487644 | W34: 0.035993177 | X34: 0.046296777 | Y34: 0.045962182 | Z34: 0.027755463 | AA34: 0.021086034
E35: Gross fixed capital formation | G35: p. p., const. p. | H35: 0.46106502 | I35: -0.34748528 | J35: -0.24716068 | K35: 0.75987304 | L35: 1.1668623 | M35: 0.76416532 | N35: -0.6663689 | O35: 0.28274643 | P35: -1.2615467 | Q35: 1.5442144 | R35: -0.4872629 | S35: -0.27949897 | T35: -0.2973951 | U35: -0.047944324 | V35: 0.17660917 | W35: 0.25776917 | X35: 0.21057354 | Y35: 0.1916172 | Z35: 0.18163099 | AA35: 0.14313266
E36: Domestic demand | G36: p. p., const. p. | H36: 0.83564925 | I36: 0.06886533 | J36: 0.61283374 | K36: 1.5500216 | L36: 0.73095081 | M36: 1.0457188 | N36: -0.76254472 | O36: 0.16908243 | P36: -0.95244518 | Q36: 1.6583611 | R36: -0.37574166 | S36: -0.17217147 | T36: -0.016193655 | U36: 0.17050347 | V36: 0.50831498 | W36: 0.57155086 | X36: 0.43412821 | Y36: 0.33574255 | Z36: 0.18877502 | AA36: 0.12200146
D37: Export of goods and services | G37: p. p., const. p. | H37: 3.5568268 | I37: 2.3095272 | J37: 3.4174726 | K37: 4.0057689 | L37: 4.229546 | M37: -0.63516245 | N37: -2.1683774 | O37: 1.6265178 | P37: 1.1081294 | Q37: 1.9075768 | R37: -0.63889788 | S37: 0.39722096 | T37: 1.0094641 | U37: 1.2712592 | V37: 1.3838174 | W37: 1.132192 | X37: 0.98520567 | Y37: 0.76118249 | Z37: 0.75420063 | AA37: 0.71593054
D38: Import of goods and services | G38: p. p., const. p. | H38: -3.2472541 | I38: -2.3392002 | J38: -2.0608129 | K38: -2.8918857 | L38: -4.819575 | M38: 1.5764834 | N38: 2.6415641 | O38: -1.5989567 | P38: -1.4833728 | Q38: -2.3913512 | R38: 0.96603868 | S38: -0.17741952 | T38: -0.53854903 | U38: -0.77311897 | V38: -0.933634 | W38: -0.84916702 | X38: -0.75614058 | Y38: -0.56274406 | Z38: -0.53040831 | AA38: -0.50103449
D39: Net exports | G39: p. p., const. p. | H39: 0.30957263 | I39: -0.02967295 | J39: 1.3566597 | K39: 1.1138832 | L39: -0.59002901 | M39: 0.94132098 | N39: 0.47318669 | O39: 0.027561013 | P39: -0.37524335 | Q39: -0.4837744 | R39: 0.3271408 | S39: 0.21980144 | T39: 0.47091508 | U39: 0.4981402 | V39: 0.45018336 | W39: 0.28302499 | X39: 0.22906509 | Y39: 0.19843843 | Z39: 0.22379233 | AA39: 0.21489605
D40: Change in inventories | G40: p. p., const. p. | H40: -0.33780319 | I40: 0.78875386 | J40: -0.072795306 | K40: 0 | L40: 0.004204909 | M40: -1.8005437 | N40: 0.55390915 | O40: 0.044736772 | P40: 1.5219062 | Q40: -0.96802929 | R40: 0.20213752 | S40: 0.11130472 | T40: -0.015959732 | U40: 0 | V40: 0 | W40: 0 | X40: 0 | Y40: 0 | Z40: 0 | AA40: 0
B41: Source: NBS, SO SR
B43: Memo tab.
B44: =B3 -> Indicator | G44: =G3 -> Unit | H44: =H$3 -> Actual data | I44: =I$3 -> 2026 | J44: =J$3 -> 2027 | K44: =K$3 -> 2028
H45: =$H$4 -> 2025
C47: Gross fixed capital formation | G47: growth in %, const. p. | H47: 2.2243916 | I47: -1.6531926 | J47: -1.2055551 | K47: 3.8227537
...

Sheet Inflation
B1: Tab. 2 Price development
B2: =" "&Summary!H3&" - price development [annual growth]" -> Autumn 2026 medium-term forecast (MTF-2026Q3) - price development [annual growth]
B3: =Summary!B3 -> Indicator | G3: =Summary!F3 -> Unit | H3: =Summary!G3 -> Actual data | I3: 2026 | J3: 2027 | K3: 2028 | L3: 2025 | P3: 2026 | T3: 2027 | X3: 2028
H4: 2025 | L4: Q1 | M4: Q2 | N4: Q3 | O4: Q4 | P4: Q1 | Q4: Q2 | R4: Q3 | S4: Q4 | T4: Q1 | U4: Q2 | V4: Q3 | W4: Q4 | X4: Q1 | Y4: Q2 | Z4: Q3 | AA4: Q4
C6: HICP inflation (average) | G6: growth %, nsa | H6: 4.2408291 | I6: 3.5869025 | J6: 3.1201413 | K6: 3.7679936 | L6: 4.1873046 | M6: 4.2882544 | N6: 4.5328528 | O6: 3.9569952 | P6: 3.9954145 | Q6: 3.8645405 | R6: 3.1727483 | S6: 3.3249334 | T6: 2.6561917 | U6: 3.0078335 | V6: 3.4923552 | W6: 3.3189076 | X6: 4.392949 | Y6: 3.8180856 | Z6: 3.499885 | AA6: 3.3731814
D7: Energy prices | G7: growth %, nsa | H7: 0.30677154 | I7: 11.158743 | J7: -0.040617155 | K7: 13.384748 | L7: 0.68029479 | M7: -0.84633256 | N7: 0.47941531 | O7: 0.92630019 | P7: 7.4260541 | Q7: 12.274477 | R7: 12.345764 | S7: 12.620042 | T7: 3.1638963 | U7: -0.58529242 | V7: -1.1535835 | W7: -1.4686382 | X7: 13.081909 | Y7: 13.363785 | Z7: 13.518544 | AA7: 13.576596
D8: Food prices | G8: growth %, nsa | H8: 3.6036814 | I8: 0.30586038 | J8: 3.5376575 | K8: 2.4990841 | L8: 3.4482759 | M8: 4.0831219 | N8: 4.4240458 | O8: 2.477033 | P8: 2.6895854 | Q8: 0.93482906 | R8: -1.3667328 | S8: -0.98743012 | T8: 0.69847412 | U8: 3.3221344 | V8: 5.1747596 | W8: 5.0184552 | X8: 3.6827405 | Y8: 2.5384784 | Z8: 1.9579107 | AA8: 1.8426335
D9: Service prices | G9: growth %, nsa | H9: 8.0427482 | I9: 4.8888579 | J9: 4.3710133 | K9: 3.3659895 | L9: 8.0154782 | M9: 8.2403808 | N9: 7.9207921 | O9: 7.9977411 | P9: 5.7830092 | Q9: 4.9780135 | R9: 4.5483267 | S9: 4.2827979 | T9: 4.3364962 | U9: 4.4949822 | V9: 4.3478916 | W9: 4.3060076 | X9: 3.6122951 | Y9: 3.3751115 | Z9: 3.2313582 | AA9: 3.2513568
D10: Non-energy industrial goods prices | G10: growth %, nsa | H10: 2.9097739 | I10: 2.296044 | J10: 2.4503917 | K10: 1.3898738 | L10: 2.9505252 | M10: 3.0018182 | N10: 3.0294704 | O10: 2.6598639 | P10: 1.9900664 | Q10: 2.1183054 | R10: 2.4047033 | S10: 2.666947 | T10: 2.2905768 | U10: 2.36566 | V10: 2.7001355 | W10: 2.4434001 | X10: 2.181033 | Y10: 1.5248588 | Z10: 1.1216812 | AA10: 0.74815341
D12: HICP inflation excluding energy | G12: growth %, nsa | H12: 4.8556075 | I12: 2.5782722 | J12: 3.5286213 | K12: 2.4713065 | L12: 4.7667953 | M12: 5.1118997 | N12: 5.1583017 | O12: 4.3914032 | P12: 3.5527161 | Q12: 2.7475099 | R12: 1.9524222 | S12: 2.083549 | T12: 2.5517682 | U12: 3.4837177 | V12: 4.1134504 | W12: 3.9585869 | X12: 3.1886912 | Y12: 2.527351 | Z12: 2.1637572 | AA12: 2.0216376
D13: HICP inflation excluding energy and food | G13: growth %, nsa | H13: 5.5724177 | I13: 3.6833123 | J13: 3.4937538 | K13: 2.4632542 | L13: 5.5529748 | M13: 5.7022661 | N13: 5.5841473 | O13: 5.4522752 | P13: 3.9947188 | Q13: 3.638796 | R13: 3.5637103 | S13: 3.5431782 | T13: 3.400483 | U13: 3.5205643 | V13: 3.5976829 | W13: 3.455267 | X13: 2.9592205 | Y13: 2.5299292 | Z13: 2.2677526 | AA13: 2.1081065
D14: Demand inflation | G14: growth %, nsa | H14: 5.149752 | I14: 3.3221414 | J14: 3.7811356 | K14: 2.2684635 | L14: 4.9093682 | M14: 5.2254026 | N14: 5.3039561 | O14: 5.1569973 | P14: 3.5367709 | Q14: 3.1780511 | R14: 3.1838834 | S14: 3.3924624 | T14: 3.6311601 | U14: 3.9039217 | V14: 3.9213411 | W14: 3.6676064 | X14: 2.9383327 | Y14: 2.3563096 | Z14: 2.0280526 | AA14: 1.7672474
C16: CPI inflation (average) | G16: growth %, nsa | H16: 4.0000545 | I16: 3.5545264 | J16: 3.2513248 | K16: 3.707743 | L16: 3.8870122 | M16: 4.0604748 | N16: 4.2944566 | O16: 3.7592574 | P16: 3.7192475 | Q16: 3.7176165 | R16: 3.2691413 | S16: 3.5159667 | T16: 2.9129144 | U16: 3.1836488 | V16: 3.5595072 | W16: 3.3447293 | X16: 4.3192551 | Y16: 3.7565068 | Z16: 3.4496628 | AA16: 3.3178029
C18: GDP deflator | G18: growth %, sa | H18: 4.1867444 | I18: 4.099365 | J18: 3.2439673 | K18: 3.4576258 | L18: 2.5473797 | M18: 4.212759 | N18: 4.9971782 | O18: 4.9596636 | P18: 5.6555756 | Q18: 4.4400595 | R18: 3.4835255 | S18: 2.8943774 | T18: 2.8403234 | U18: 3.0028551 | V18: 3.5020929 | W18: 3.596642 | X18: 3.1775014 | Y18: 3.2520105 | Z18: 3.557672 | AA18: 3.8456162
D19: Private consumption deflator | G19: growth %, sa | H19: 4.1661568 | I19: 3.8215698 | J19: 3.2674187 | K19: 3.7901149 | L19: 4.1037572 | M19: 4.4240977 | N19: 4.3900937 | O19: 3.7860049 | P19: 4.1694676 | Q19: 3.9796335 | R19: 3.5789873 | S19: 3.5612954 | T19: 3.5195479 | U19: 3.3102235 | V19: 3.2547783 | W19: 2.9831432 | X19: 3.0022945 | Y19: 3.3581552 | Z19: 4.0641137 | AA19: 4.73236
D20: Government consumption deflator | G20: growth %, sa | H20: 5.3092006 | I20: 4.0772145 | J20: 3.0826243 | K20: 3.1274324 | L20: 5.7533513 | M20: 6.014431 | N20: 4.7455244 | O20: 4.7821492 | P20: 5.1817604 | Q20: 3.8933346 | R20: 3.8356661 | S20: 3.4389471 | T20: 2.7853215 | U20: 2.9847017 | V20: 3.257586 | W20: 3.2938368 | X20: 3.4136733 | Y20: 3.2640787 | Z20: 3.045495 | AA20: 2.7949768
D21: Gross fixed capital formation deflator | G21: growth %, sa | H21: 3.3117658 | I21: 1.6272197 | J21: 3.6947807 | K21: 2.4858531 | L21: 4.053074 | M21: 4.5997321 | N21: 3.1084858 | O21: 1.1542112 | P21: 1.3287155 | Q21: 1.2149079 | R21: 2.116609 | S21: 1.8041524 | T21: 4.7311656 | U21: 3.7412352 | V21: 3.3170165 | W21: 3.0631889 | X21: 2.3459708 | Y21: 2.4772646 | Z21: 2.5254258 | AA21: 2.584637
D22: Export deflator | G22: growth %, sa | H22: 0.56977474 | I22: 2.448861 | J22: 2.5538327 | K22: 1.5172352 | L22: 0.21828622 | M22: -0.16156865 | N22: 1.1050948 | O22: 1.1600167 | P22: 1.2120477 | Q22: 2.8916677 | R22: 2.9408659 | S22: 2.6603939 | T22: 4.8470629 | U22: 2.9370092 | V22: 1.4746354 | W22: 1.0773141 | X22: 1.1168548 | Y22: 1.3728577 | Z22: 1.6658029 | AA22: 1.9064009
D23: Import deflator | G23: growth %, sa | H23: 0.72271702 | I23: 1.9489312 | J23: 2.8036963 | K23: 1.1718786 | L23: 2.528422 | M23: 0.13179222 | N23: 0.56463599 | O23: -0.17113056 | P23: -0.52122812 | Q23: 2.070929 | R23: 3.1187269 | S23: 3.0272625 | T23: 5.8133021 | U23: 3.8559159 | V23: 1.2194683 | W23: 0.53759126 | X23: 0.60911985 | Y23: 0.99999567 | Z23: 1.3800558 | AA23: 1.6879039
D24: Terms of trade1) | G24: growth %, sa | H24: -0.15184486 | I24: 0.49037278 | J24: -0.24304924 | K24: 0.34135633 | L24: -2.2531662 | M24: -0.29297475 | N24: 0.53742434 | O24: 1.3334291 | P24: 1.7423575 | Q24: 0.80408668 | R24: -0.17248173 | S24: -0.35608882 | T24: -0.91315477 | U24: -0.88478993 | V24: 0.25209288 | W24: 0.53683685 | X24: 0.50466094 | Y24: 0.36917034 | Z24: 0.28185733 | AA24: 0.21487013
C26: Unit labour costs2) | G26: growth % | H26: 5.2557142 | I26: 3.3897968 | J26: 2.8048735 | K26: 2.418869 | L26: 3.9344754 | M26: 7.5231664 | N26: 4.6383965 | O26: 4.9461064 | P26: 4.6227831 | Q26: 2.0691935 | R26: 3.6447354 | S26: 3.270023 | T26: 3.6001017 | U26: 3.285906 | V26: 2.4863213 | W26: 1.8714372 | X26: 1.6655796 | Y26: 2.0000271 | Z26: 2.7190825 | AA26: 3.2770573
B28: Source: NBS, SO SR
B29: 1) Export deflator / import deflator
B30: 2) Compensation per employee in current prices / labour productivity (ESA 2010) at constant prices
F32: Memo tab.
H33: 46082 | I33: 46113 | J33: 46143 | K33: 46174 | L33: 46204 | M33: 46235 | N33: 46266 | O33: 46296 | P33: 46327 | Q33: 46357 | R33: 46388 | S33: 46419 | T33: 46447 | U33: 46478 | V33: 46508 | W33: 46539
F34: HICP inflation (average) | G34: growth %, y-o-y, nsa | H34: 3.7104255 | I34: 4.1297341 | J34: 3.9683335 | K34: 3.4979013 | L34: 3.2065326 | M34: 3.114118 | N34: 3.1975751 | O34: 3.2850996 | P34: 3.1674412 | Q34: 3.5228147 | R34: 2.3555676 | S34: 2.6512276 | T34: 2.9613994 | U34: 2.8669761 | V34: 2.8576713 | W34: 3.2988839
F35: Source: NBS, SO SR

Sheet Labour Market
B1: Tab. 3 Labour Market
B2: =" "&Summary!H3&" - labour market [level]" -> Autumn 2026 medium-term forecast (MTF-2026Q3) - labour market [level]
B3: Indicator | G3: Unit | H3: Actual data | I3: 2026 | J3: 2027 | K3: 2028 | L3: 2025 | P3: 2026 | T3: 2027 | X3: 2028
H4: 2025 | L4: Q1 | M4: Q2 | N4: Q3 | O4: Q4 | P4: Q1 | Q4: Q2 | R4: Q3 | S4: Q4 | T4: Q1 | U4: Q2 | V4: Q3 | W4: Q4 | X4: Q1 | Y4: Q2 | Z4: Q3 | AA4: Q4
B6: Development of employment, unemployment
C7: Employment | G7: ths. of per., ESA 2010 | H7: 2427.057 | I7: 2426.804 | J7: 2423.5007 | K7: 2423.8613 | L7: 2427.418 | M7: 2428.265 | N7: 2425.299 | O7: 2427.246 | P7: 2425.425 | Q7: 2428.44 | R7: 2427.6285 | S7: 2425.7224 | T7: 2424.0689 | U7: 2423.6935 | V7: 2423.2061 | W7: 2423.0342 | X7: 2423.2896 | Y7: 2423.8256 | Z7: 2424.209 | AA7: 2424.1211
D9: Employees | G9: ths. of per., ESA 2010 | H9: 2082.6568 | I9: 2093.9996 | J9: 2093.2193 | K9: 2093.5185
D10: Self-employed | G10: ths. of per., ESA 2010 | H10: 344.40025 | I10: 332.80436 | J10: 330.28141 | K10: 330.34277
C12: Unemployment | G12: ths. of per., LFS | H12: 149.537 | I12: 158.88882 | J12: 164.93307 | K12: 163.41008 | L12: 144.22557 | M12: 148.46481 | N12: 151.0859 | O12: 154.37172 | P12: 158.9793 | Q12: 156.68023 | R12: 158.49808 | S12: 161.39767 | T12: 163.88825 | U12: 164.78785 | V12: 165.48228 | W12: 165.57391 | X12: 164.97644 | Y12: 163.8929 | Z12: 162.78138 | AA12: 161.98962
C13: Unemployment rate | G13: % | H13: 5.417782 | I13: 5.7683854 | J13: 6.0041492 | K13: 5.9624659 | L13: 5.2159835 | M13: 5.3793047 | N13: 5.4769534 | O13: 5.5988862 | P13: 5.7596796 | Q13: 5.6876116 | R13: 5.7593778 | S13: 5.8668727 | T13: 5.9617407 | U13: 5.9969367 | V13: 6.0255655 | W13: 6.0323539 | X13: 6.0141458 | Y13: 5.9782459 | Z13: 5.941345 | AA13: 5.916127
B15: Compensation and wages
C16: Compensation per employee, nominal | G16: EUR | H16: 28296.882 | I16: 29501.389 | J16: 30946.236 | K16: 32534.263 | L16: 6876.7311 | M16: 7114.5212 | N16: 7100.8631 | O16: 7204.5475 | P16: 7264.5937 | Q16: 7327.272 | R16: 7411.2861 | S16: 7498.0522 | T16: 7602.7003 | U16: 7691.0319 | V16: 7779.9983 | W16: 7872.5696 | X16: 7977.8316 | Y16: 8083.2158 | Z16: 8186.8917 | AA16: 8286.2644
C17: Average wage, nominal1) | G17: EUR | H17: 1746.7574 | I17: 1827.6892 | J17: 1908.7429 | K17: 2003.09 | L17: 1699.9987 | M17: 1752.4929 | N17: 1752.9238 | O17: 1781.5572 | P17: 1800.8032 | Q17: 1819.7535 | R17: 1836.4565 | S17: 1853.6971 | T17: 1877.1444 | U17: 1897.1462 | V17: 1918.997 | W17: 1941.699 | X17: 1965.4295 | Y17: 1990.7109 | Z17: 2015.8371 | AA17: 2040.3684
D18: Average wage, private sector | G18: EUR | H18: 1678.2459 | I18: 1751.1914 | J18: 1829.7337 | K18: 1927.1085
D19: Average wage, public sector | G19: EUR | H19: 1976.126 | I19: 2083.5048 | J19: 2172.6715 | K19: 2256.9524
C20: Average wage, real2) | G20: EUR | H20: 1077.2369 | I20: 1088.5257 | J20: 1100.9383 | K20: 1113.382
C21: Labour productivity3) | G21: EUR, const. p. | H21: 43320.131 | I21: 43683.353 | J21: 44572.565 | K21: 45753.127 | L21: 10792.482 | M21: 10808.838 | N21: 10850.686 | O21: 10868.153 | P21: 10897.437 | Q21: 10906.388 | R21: 10926.785 | S21: 10952.751 | T21: 11008.312 | U21: 11083.634 | V21: 11192.122 | W21: 11288.568 | X21: 11362.235 | Y21: 11420.404 | Z21: 11465.707 | AA21: 11504.752
C22: Compensation of employees | G22: % of GDP, curr. p. | H22: 43.094991 | I22: 43.036151 | J22: 42.900756 | K22: 42.46699 | L22: 42.990144 | M22: 43.566299 | N22: 42.850717 | O22: 42.972802 | P22: 42.790841 | Q22: 42.830624 | R22: 43.175487 | S22: 43.347652 | T22: 43.188971 | U22: 42.993866 | V22: 42.779582 | W22: 42.640606 | X22: 42.556633 | Y22: 42.472453 | Z22: 42.432473 | AA22: 42.406401
B24: Demography
C25: Working age population | G25: ths. of per., LFS | H25: 4299.8482 | I25: 4296.8805 | J25: 4285.4239 | K25: 4269.8692 | L25: 4299.7607 | M25: 4299.4821 | N25: 4299.8077 | O25: 4300.3425 | P25: 4299.2551 | Q25: 4297.7947 | R25: 4296.7226 | S25: 4293.7495 | T25: 4290.5841 | U25: 4287.2512 | V25: 4283.7713 | W25: 4280.0892 | X25: 4276.1996 | Y25: 4272.0992 | Z25: 4267.821 | AA25: 4263.357
C26: Labour force | G26: ths. of per., LFS | H26: 2760.1893 | I26: 2754.5959 | J26: 2747.0851 | K26: 2740.6343 | L26: 2765.0696 | M26: 2759.9257 | N26: 2758.5755 | O26: 2757.1862 | P26: 2760.2108 | Q26: 2754.7631 | R26: 2752.4301 | S26: 2750.9796 | T26: 2749.3727 | U26: 2747.8671 | V26: 2746.3361 | W26: 2744.7646 | X26: 2743.14 | Y26: 2741.488 | Z26: 2739.8068 | AA26: 2738.1025
C27: Participation rate4) | G27: % | H27: 64.192716 | I27: 64.106858 | J27: 64.103013 | K27: 64.185472 | L27: 64.307522 | M27: 64.19205 | N27: 64.155788 | O27: 64.115504 | P27: 64.202072 | Q27: 64.097131 | R27: 64.058827 | S27: 64.069401 | T27: 64.079217 | U27: 64.093915 | V27: 64.110241 | W27: 64.128678 | X27: 64.149017 | Y27: 64.171919 | Z27: 64.196855 | AA27: 64.224096
C28: NAIRU estimate5) | G28: % | H28: 6.0862981 | I28: 6.0590399 | J28: 6.0387361 | K28: 6.0254147 | L28: 6.0977015 | M28: 6.0891153 | N28: 6.0820745 | O28: 6.0763011 | P28: 6.068671 | Q28: 6.0618039 | R28: 6.0556235 | S28: 6.0500611 | T28: 6.045055 | U28: 6.0405495 | V28: 6.0364946 | W28: 6.0328451 | X28: 6.0295606 | Y28: 6.0266045 | Z28: 6.0239441 | AA28: 6.0215497
B30: =" "&Summary!H3&" - labour market [change over previous period]" -> Autumn 2026 medium-term forecast (MTF-2026Q3) - labour market [change over previous period]
B31: =B3 -> Indicator | G31: =G3 -> Unit | H31: =H$3 -> Actual data | I31: =I$3 -> 2026 | J31: =J$3 -> 2027 | K31: =K$3 -> 2028 | L31: =L$3 -> 2025 | P31: =P$3 -> 2026 | T31: =T$3 -> 2027 | X31: =X$3 -> 2028
H32: =$H$4 -> 2025 | L32: Q1 | M32: Q2 | N32: Q3 | O32: Q4 | P32: Q1 | Q32: Q2 | R32: Q3 | S32: Q4 | T32: Q1 | U32: Q2 | V32: Q3 | W32: Q4 | X32: Q1 | Y32: Q2 | Z32: Q3 | AA32: Q4
B34: Development of employment, unemployment
C35: Employment | G35: growth in % | H35: -0.13304994 | I35: -0.010425058 | J35: -0.13611739 | K35: 0.014881204 | L35: -0.077553141 | M35: 0.034893043 | N35: -0.12214482 | O35: 0.080278762 | P35: -0.075023298 | Q35: 0.12430811 | R35: -0.033417209 | S35: -0.078515091 | T35: -0.068165043 | U35: -0.01548769 | V35: -0.020110531 | W35: -0.0070939292 | X35: 0.010542757 | Y35: 0.02211517 | Z35: 0.015820959 | AA35: -0.0036281454
D37: Employees | G37: growth in % | H37: 0.11462442 | I37: 0.54463455 | J37: -0.037266266 | K37: 0.014297888
D38: Self-employed | G38: growth in % | H38: -1.6050592 | I38: -3.3669808 | J38: -0.75808709 | K38: 0.018578074
C40: Unemployment | G40: growth in % | H40: 1.2409955 | I40: 6.2538486 | J40: 3.8040795 | K40: -0.92340013 | L40: -0.36844614 | M40: 2.9393121 | N40: 1.7654584 | O40: 2.1748055 | P40: 2.9847297 | Q40: -1.4461451 | R40: 1.1602284 | S40: 1.8294176 | T40: 1.5431348 | U40: 0.54891045 | V40: 0.42140909 | W40: 0.055372299 | X40: -0.36085246 | Y40: -0.65678461 | Z40: -0.67819867 | AA40: -0.48639226
C41: Unemployment rate | G41: change in p.p. | H41: 0.082661636 | I41: 0.35060346 | J41: 0.23576378 | K41: -0.04168327 | L41: -0.014311749 | M41: 0.16332119 | N41: 0.097648717 | O41: 0.1219328 | P41: 0.16079339 | Q41: -0.072067998 | R41: 0.071766159 | S41: 0.10749493 | T41: 0.094867992 | U41: 0.03519599 | V41: 0.028628865 | W41: 0.0067883432 | X41: -0.01820812 | Y41: -0.035899857 | Z41: -0.036900886 | AA41: -0.025218008
B43: Compensation and wages
C44: Compensation per employee, nominal | G44: growth in % | H44: 6.24693 | I44: 4.2566775 | J44: 4.8975555 | K44: 5.1315653 | L44: 1.0980646 | M44: 3.4578937 | N44: -0.19197505 | O44: 1.460166 | P44: 0.83344901 | Q44: 0.86279187 | R44: 1.1465938 | S44: 1.1707294 | T44: 1.3956714 | U44: 1.1618441 | V44: 1.1567552 | W44: 1.1898633 | X44: 1.3370726 | Y44: 1.320963 | Z44: 1.2826071 | AA44: 1.2138024
C45: Average wage, nominal1) | G45: growth in % | H45: 5.7216999 | I45: 4.6332621 | J45: 4.4347612 | K45: 4.9428961 | L45: 1.0021929 | M45: 3.0878967 | N45: 0.024585609 | O45: 1.6334628 | P45: 1.0802914 | Q45: 1.0523286 | R45: 0.9178704 | S45: 0.93879541 | T45: 1.2648967 | U45: 1.0655433 | V45: 1.1517724 | W45: 1.1830134 | X45: 1.2221481 | Y45: 1.2863063 | Z45: 1.2621719 | AA45: 1.2169267
D46: Average wage, private sector | G46: growth in % | H46: 5.4068707 | I46: 4.3465341 | J46: 4.4850765 | K46: 5.3217983
D47: Average wage, public sector | G47: growth in % | H47: 6.4341358 | I47: 5.4338039 | J47: 4.2796513 | K47: 3.8791326
C48: Average wage, real2) | G48: growth in % | H48: 1.6464123 | I48: 1.0479381 | J48: 1.1403081 | K48: 1.1302843
C49: Labour productivity3) | G49: growth in % | H49: 0.94172159 | I49: 0.83845871 | J49: 2.0355864 | K49: 2.6486294 | L49: 0.22285267 | M49: 0.15155019 | N49: 0.38716885 | O49: 0.16097222 | P49: 0.26944311 | Q49: 0.082147133 | R49: 0.18701636 | S49: 0.23763636 | T49: 0.50727252 | U49: 0.68423733 | V49: 0.97880571 | W49: 0.86173092 | X49: 0.65258175 | Y49: 0.51195259 | Z49: 0.39668363 | AA49: 0.34053801
B51: Demography
...

Sheet Balance of Payments
B1: Tab. 4 Balance of Payments
B2: =" "&Summary!H3&" - balance of payments [level]" -> Autumn 2026 medium-term forecast (MTF-2026Q3) - balance of payments [level]
B3: Indicator | G3: Unit | H3: Actual data | I3: 2026 | J3: 2027 | K3: 2028 | L3: 2025 | P3: 2026 | T3: 2027 | X3: 2028
H4: 2025 | L4: Q1 | M4: Q2 | N4: Q3 | O4: Q4 | P4: Q1 | Q4: Q2 | R4: Q3 | S4: Q4 | T4: Q1 | U4: Q2 | V4: Q3 | W4: Q4 | X4: Q1 | Y4: Q2 | Z4: Q3 | AA4: Q4
B6: Export, import of goods and services in ESA methodology
C7: Export of goods and services | G7: ESA 2010, mil. EUR, const. p. | H7: 93528.98 | I7: 95957.227 | J7: 99580.121 | K7: 103907.22 | L7: 23684.599 | M7: 23518.2 | N7: 22949.072 | O7: 23377.109 | P7: 23669.43 | Q7: 24173.62 | R7: 24004.405 | S7: 24109.772 | T7: 24377.97 | U7: 24717.204 | V7: 25088.944 | W7: 25396.003 | X7: 25665.483 | Y7: 25875.067 | Z7: 26083.837 | AA7: 26282.832
D8: Export of goods and services within eurozone | G8: ESA 2010, mil. EUR, const. p. | H8: 42117.504 | I8: 44850.929 | J8: 46154.592 | K8: 47933.018 | L8: 10882.552 | M8: 10324.44 | N8: 10719.754 | O8: 10190.758 | P8: 11089.383 | Q8: 11309.54 | R8: 11225.637 | S8: 11226.369 | T8: 11329.853 | U8: 11465.896 | V8: 11617.481 | W8: 11741.363 | X8: 11853.072 | Y8: 11938.388 | Z8: 12027.966 | AA8: 12113.591
D9: Export of goods and services out of eurozone | G9: ESA 2010, mil. EUR, const. p. | H9: 51395.234 | I9: 51106.298 | J9: 53425.529 | K9: 55974.201 | L9: 12730.393 | M9: 13149.809 | N9: 12175.527 | O9: 13339.505 | P9: 12491.183 | Q9: 12898.34 | R9: 12833.371 | S9: 12883.403 | T9: 13048.117 | U9: 13251.309 | V9: 13471.463 | W9: 13654.64 | X9: 13812.411 | Y9: 13936.678 | Z9: 14055.871 | AA9: 14169.241
C11: Import of goods and services | G11: ESA 2010, mil. EUR, const. p. | H11: 89820.921 | I11: 92280.366 | J11: 94465.053 | K11: 97588.916 | L11: 23006.45 | M11: 22593.445 | N11: 21900.121 | O11: 22320.905 | P11: 22712.214 | Q11: 23344.27 | R11: 23088.41 | S11: 23135.472 | T11: 23278.556 | U11: 23484.862 | V11: 23735.667 | W11: 23965.968 | X11: 24172.792 | Y11: 24327.738 | Z11: 24474.561 | AA11: 24613.825
D12: Import of goods and services within eurozone | G12: ESA 2010, mil. EUR, const. p. | H12: 24468.755 | I12: 23391.318 | J12: 23690.244 | K12: 24473.656 | L12: 6378.637 | M12: 6399.005 | N12: 5804.195 | O12: 5886.918 | P12: 5989.869 | Q12: 5866.491 | R12: 5732.9713 | S12: 5801.9868 | T12: 5837.8697 | U12: 5889.6078 | V12: 5952.5055 | W12: 6010.2611 | X12: 6062.1291 | Y12: 6100.9869 | Z12: 6137.8076 | AA12: 6172.7326
D13: Import of goods and services out of eurozone | G13: ESA 2010, mil. EUR, const. p. | H13: 65370.393 | I13: 68889.048 | J13: 70774.809 | K13: 73115.259 | L13: 16725.758 | M13: 16152.456 | N13: 16090.402 | O13: 16401.777 | P13: 16792.169 | Q13: 17522.381 | R13: 17241.012 | S13: 17333.486 | T13: 17440.686 | U13: 17595.254 | V13: 17783.162 | W13: 17955.707 | X13: 18110.663 | Y13: 18226.751 | Z13: 18336.753 | AA13: 18441.092
C15: Net export | G15: ESA 2010, mil. EUR, const. p. | H15: 3708.059 | I15: 3676.8607 | J15: 5115.0684 | K15: 6318.3033 | L15: 678.149 | M15: 924.755 | N15: 1048.951 | O15: 1056.204 | P15: 957.216 | Q15: 829.35 | R15: 915.99491 | S15: 974.29982 | T15: 1099.4141 | U15: 1232.3424 | V15: 1353.2766 | W15: 1430.0353 | X15: 1492.6905 | Y15: 1547.3285 | Z15: 1609.2766 | AA15: 1669.0076
B17: Export, import of goods and services in BoP methodology
C18: Export of goods and services | G18: BoP, mil. EUR, curr. p. | H18: 115888.54 | I18: 122392.84 | J18: 130263.96 | K18: 137992.6
C19: Import of goods and services | G19: BoP, mil. EUR, curr. p. | H19: 116357.27 | I19: 122442.38 | J19: 128850.08 | K19: 134666.41
C21: Trade balance (goods and services) | G21: BoP, mil. EUR, curr. p. | H21: -468.73657 | I21: -49.545412 | J21: 1413.8765 | K21: 3326.1905
C22: Trade balance (goods and services) | G22: % of GDP | H22: -0.34275817 | I22: -0.034517029 | J22: 0.93630349 | K22: 2.0738245
C23: Current account | G23: BoP, mil. EUR, curr. p. | H23: -6499.1814 | I23: -5119.4499 | J23: -4408.7647 | K23: -2625.6228
C24: Current account | G24: % of GDP | H24: -4.7524508 | I24: -3.5665906 | J24: -2.9195915 | K24: -1.6370322
C25: Memo item: nominal GDP | G25: ESA 2010, mil. EUR, curr. p. | H25: 136754.31 | I25: 143539.04 | J25: 151006.22 | K25: 160389.2
B27: =" "&Summary!H3&" - balance of payments [change over previous period]" -> Autumn 2026 medium-term forecast (MTF-2026Q3) - balance of payments [change over previous period]
B28: =B3 -> Indicator | G28: =G3 -> Unit | H28: =H3 -> Actual data | I28: =I$3 -> 2026 | J28: =J$3 -> 2027 | K28: =K$3 -> 2028 | L28: =L$3 -> 2025 | P28: =P$3 -> 2026 | T28: =T$3 -> 2027 | X28: =X$3 -> 2028
H29: =$H$4 -> 2025 | L29: Q1 | M29: Q2 | N29: Q3 | O29: Q4 | P29: Q1 | Q29: Q2 | R29: Q3 | S29: Q4 | T29: Q1 | U29: Q2 | V29: Q3 | W29: Q4 | X29: Q1 | Y29: Q2 | Z29: Q3 | AA29: Q4
B31: Export, import of goods and services in ESA methodology
C32: Export of goods and services | G32: growth in % | H32: 4.1301939 | I32: 2.5962507 | J32: 3.7755308 | K32: 4.3453425 | L32: 4.9005114 | M32: -0.70256203 | N32: -2.4199471 | O32: 1.8651604 | P32: 1.2504583 | Q32: 2.1301316 | R32: -0.70000009 | S32: 0.4389508 | T32: 1.1124029 | U32: 1.391561 | V32: 1.5039705 | W32: 1.2238846 | X32: 1.0611088 | Y32: 0.81659824 | Z32: 0.80684154 | AA32: 0.76290473
D33: Export of goods and services within eurozone | G33: growth in % | H33: -1.4493559 | I33: 6.4899978 | J33: 2.9066575 | K33: 3.853194 | L33: 3.0764906 | M33: -5.1285029 | N33: 3.8289147 | O33: -4.9347774 | P33: 8.8180389 | Q33: 1.9852953 | R33: -0.74187501 | S33: 0.0065154274 | T33: 0.92179325 | U33: 1.2007489 | V33: 1.3220497 | W33: 1.066345 | X33: 0.95141534 | Y33: 0.71978081 | Z33: 0.75033392 | AA33: 0.71188642
D34: Export of goods and services out of eurozone | G34: growth in % | H34: 9.1754246 | I34: -0.56218499 | J34: 4.5380548 | K34: 4.7705122 | L34: 4.2890646 | M34: 3.2946037 | N34: -7.4090962 | O34: 9.5599804 | P34: -6.3594714 | Q34: 3.2595552 | R34: -0.50369823 | S34: 0.38985959 | T34: 1.2784967 | U34: 1.5572456 | V34: 1.6613803 | W34: 1.3597432 | X34: 1.1554321 | Y34: 0.89968178 | Z34: 0.85524689 | AA34: 0.80656239
C36: Import of goods and services | G36: growth in % | H36: 3.9183972 | I36: 2.7381651 | J36: 2.3674451 | K36: 3.3068975 | L36: 5.7979217 | M36: -1.7951705 | N36: -3.0686954 | O36: 1.9213775 | P36: 1.7531054 | Q36: 2.7828903 | R36: -1.0960303 | S36: 0.20383652 | T36: 0.61845941 | U36: 0.88624944 | V36: 1.0679441 | W36: 0.97027413 | X36: 0.86299037 | Y36: 0.64099285 | Z36: 0.60351965 | AA36: 0.56901488
D37: Import of goods and services within eurozone | G37: growth in % | H37: -8.1868375 | I37: -4.4033175 | J37: 1.2779361 | K37: 3.3068975 | L37: -3.3868187 | M37: 0.31931587 | N37: -9.2953514 | O37: 1.4252278 | P37: 1.7488098 | Q37: -2.0597779 | R37: -2.2759729 | S37: 1.2038349 | T37: 0.61845941 | U37: 0.88624944 | V37: 1.0679441 | W37: 0.97027413 | X37: 0.86299037 | Y37: 0.64099285 | Z37: 0.60351965 | AA37: 0.56901488
D38: Import of goods and services out of eurozone | G38: growth in % | H38: 9.3673995 | I38: 5.3826432 | J38: 2.7373885 | K38: 3.3068975 | L38: 10.136642 | M38: -3.4276593 | N38: -0.38417687 | O38: 1.9351599 | P38: 2.3801811 | Q38: 4.348527 | R38: -1.6057665 | S38: 0.5363554 | T38: 0.61845941 | U38: 0.88624944 | V38: 1.0679441 | W38: 0.97027413 | X38: 0.86299037 | Y38: 0.64099285 | Z38: 0.60351965 | AA38: 0.56901488
B40: Export, import of goods and services in BoP methodology
C41: Export of goods and services | G41: growth in % | H41: 4.2809015 | I41: 5.2677412 | J41: 6.4310344 | K41: 5.933058
C42: Import of goods and services | G42: growth in % | H42: 4.3180541 | I42: 5.3143211 | J42: 5.2332398 | K42: 4.5140229
B43: Source: NBS, SO SR

Sheet General Government
B1: Tab. 5 General Government (S.13)
B2: =" "&Summary!H3&" - general government [level]" -> Autumn 2026 medium-term forecast (MTF-2026Q3) - general government [level]
B3: Indicator | G3: Unit | H3: 2025 | I3: 2025 | J3: 2027 | K3: 2028
B5: Balance of revenues and expenditures
C6: General government balance 1) | G6: ESA 2010, mil. EUR | H6: -6086.305 | I6: -6264.8605 | J6: -7066.2352 | K6: -6607.1018
C7: Primary balance | G7: ESA 2010, mil. EUR | H7: -3967.747 | I7: -3814.0453 | J7: -4421.5998 | K7: -3681.8984
C8: Total revenue | G8: ESA 2010, mil. EUR | H8: 59481.154 | I8: 62564.668 | J8: 63339.027 | K8: 65906.306
D9: Current revenue | G9: ESA 2010, mil. EUR | H9: 57490.085 | I9: 59936.056 | J9: 61546.825 | K9: 63788.458
D10: Capital revenue | G10: ESA 2010, mil. EUR | H10: 1991.069 | I10: 2628.6124 | J10: 1792.2022 | K10: 2117.8485
C12: Total expenditure | G12: ESA 2010, mil. EUR | H12: 65567.459 | I12: 68829.529 | J12: 70405.262 | K12: 72513.408
C13: Primary expenditure | G13: ESA 2010, mil. EUR | H13: 63448.901 | I13: 66378.714 | J13: 67760.627 | K13: 69588.205
D14: Current expenditure | G14: ESA 2010, mil. EUR | H14: 58264.888 | I14: 60515.427 | J14: 63283.949 | K14: 65583.917
D15: Capital expenditure | G15: ESA 2010, mil. EUR | H15: 7302.571 | I15: 8314.1023 | J15: 7121.3131 | K15: 6929.4908
B17: General government gross debt | G17: ESA 2010, mil. EUR | H17: 83956.81 | I17: 90099.499 | J17: 96785.432 | K17: 103182.87
B19: =" "&Summary!H3&" - general government [% GDP]" -> Autumn 2026 medium-term forecast (MTF-2026Q3) - general government [% GDP]
B20: =B3 -> Indicator | G20: =G3 -> Unit | H20: =H3 -> 2025 | I20: =I3 -> 2025 | J20: =J3 -> 2027 | K20: =K3 -> 2028
B22: Balance of revenues and expenditures
C23: General government balance1) | G23: % of GDP | H23: -4.4505397 | I23: -4.3645691 | J23: -4.6794333 | K23: -4.1194182
C24: Primary balance | G24: % of GDP | H24: -2.9013688 | I24: -2.6571485 | J24: -2.9280913 | K24: -2.2956025
C25: Total revenue | G25: % of GDP | H25: 43.494902 | I25: 43.587215 | J25: 41.944648 | K25: 41.091487
D26: Current revenue | G26: % of GDP | H26: 42.038956 | I26: 41.755927 | J26: 40.757808 | K26: 39.771044
D27: Capital revenue | G27: % of GDP | H27: 1.455946 | I27: 1.8312875 | J27: 1.18684 | K27: 1.3204433
C29: Total expenditure | G29: % of GDP | H29: 47.945442 | I29: 47.951784 | J29: 46.624082 | K29: 45.210905
C30: Primary expenditure | G30: % of GDP | H30: 46.396271 | I30: 46.244363 | J30: 44.87274 | K30: 43.38709
D31: Current expenditure | G31: % of GDP | H31: 42.605522 | I31: 42.15956 | J31: 41.908175 | K31: 40.890483
D32: Capital expenditure | G32: % of GDP | H32: 5.3399201 | I32: 5.7922238 | J32: 4.7159073 | K32: 4.3204224
B34: Structural development
C35: Cyclical component | G35: % of trend GDP | H35: -0.054346356 | I35: -0.25188011 | J35: -0.28072589 | K35: -0.10504623
C36: Structural balance | G36: % of trend GDP | H36: -4.4462832 | I36: -4.1266225 | J36: -4.4053297 | K36: -4.014372
C37: Cyclically adjusted primary balance | G37: % of trend GDP | H37: -2.8507594 | I37: -2.4179698 | J37: -2.6609244 | K37: -2.1945323
C38: Fiscal stance2) | G38: year-on-year change in p.p. | H38: 1.2463431 | I38: 0.43278959 | J38: -0.24295464 | K38: 0.46639213
B40: General government gross debt | G40: % of GDP | H40: 61.392441 | I40: 62.770032 | J40: 64.093674 | K40: 64.332805
C41: Memo item: nominal GDP | G41: ESA 2010, mil. EUR, curr. p. | H41: 136754.31 | I41: 143539.04 | J41: 151006.22 | K41: 160389.2
B42: Source: NBS, SO SR
B43: 1) B.9n - Net lending (+) / net borrowing (-)
B44: 2) Year-on-year change in cyclically adjusted primary balance; a positive value denotes a restrictive stance

Sheet Other institutions
B1: Tab. 6 Comparison of predictions of selected institutions
B2: The values ​​in the table are as annual growth in %, unless otherwise indicated. | D2: 2026 | I2: 2027 | N2: 2028
D3: NBS | E3: IFP | F3: EC | G3: IMF | H3: OECD | I3: NBS | J3: IFP | K3: EC | L3: IMF | M3: OECD | N3: NBS | O3: IFP | P3: EC | Q3: IMF | R3: OECD
B4: Gross domestic product (const. p.) | D4: 0.82794624 | E4: 0.77299153 | F4: 0.8 | G4: 0.601 | H4: 0.70773987 | I4: 1.8966982 | J4: 1.5490172 | K4: 1.5 | L4: 1.649 | M4: 1.578517 | N4: 2.6639048 | O4: 1.8562553 | P4: - | Q4: 2.573 | R4: -
C5: Private consumption (const. p.) | D5: 0.53680059 | E5: 0.4253699 | F5: -0.1 | G5: - | H5: -0.040541394 | I5: 1.2719179 | J5: 1.1668996 | K5: 1.2 | L5: - | M5: 1.7448078 | N5: 1.160596 | O5: 1.0373204 | P5: - | Q5: - | R5: -
C6: Government consumption (const. p.) | D6: 0.58372302 | E6: -0.33524141 | F6: 0.6 | G6: - | H6: -0.48289755 | I6: 0.75198421 | J6: 0.45799242 | K6: 0.1 | L6: - | M6: 0.44929024 | N6: 0.74247725 | O6: 0.3182443 | P6: - | Q6: - | R6: -
C7: Gross fixed capital formation (const. p.) | D7: -1.6531926 | E7: -2.2340285 | F7: 1.4 | G7: - | H7: 1.4774208 | I7: -1.2055551 | J7: -1.5999972 | K7: -0.5 | L7: - | M7: -0.21278066 | N7: 3.8227537 | O7: 2.7297072 | P7: - | Q7: - | R7: -
C8: Export of goods and services (const. p.) | D8: 2.5962507 | E8: 1.7099232 | F8: 1.2 | G8: 2.924 | H8: 0.87186525 | I8: 3.7755308 | J8: 4.1916078 | K8: 3.7 | L8: 3.753 | M8: 2.5860447 | N8: 4.3453425 | O8: 3.279157 | P8: - | Q8: 3.733 | R8: -
C9: Import of goods and services (const. p.) | D9: 2.7381651 | E9: 0.97520894 | F9: 0.8 | G9: 2.103 | H9: -0.051200863 | I9: 2.3674451 | J9: 3.2748286 | K9: 2.7 | L9: 2.655 | M9: 1.9798263 | N9: 3.3068975 | O9: 2.9852614 | P9: - | Q9: 3.8 | R9: -
B11: HICP inflation1) | D11: 3.5869025 | E11: 4.02089 | F11: 4.3 | G11: 4.159 | H11: 4.2648075 | I11: 3.1201413 | J11: 2.7943096 | K11: 3.2 | L11: 3.273 | M11: 2.6026158 | N11: 3.7679936 | O11: 3.6857656 | P11: - | Q11: 2.945 | R11: -
B13: Employment (ESA 2010) | D13: -0.010425058 | E13: -0.16051268 | F13: -0.5 | G13: - | H13: - | I13: -0.13611739 | J13: -0.0023548475 | K13: -0.2 | L13: - | M13: - | N13: 0.014881204 | O13: -0.089820407 | P13: - | Q13: - | R13: -
B14: Unemployment rate (%) | D14: 5.7683854 | E14: 5.8373754 | F14: 5.7 | G14: 5.76 | H14: 5.7848712 | I14: 6.0041492 | J14: 5.783363 | K14: 5.7 | L14: 5.674 | M14: 5.9003374 | N14: 5.9624659 | O14: 5.5931383 | P14: - | Q14: 5.588 | R14: -
B15: Average wage, nominal | D15: 4.6332621 | E15: 4.5061728 | F15: - | G15: - | H15: - | I15: 4.4347612 | J15: 4.1937389 | K15: - | L15: - | M15: - | N15: 4.9428961 | O15: 4.7052154 | P15: - | Q15: - | R15: -
B16: Compensation per employee, nominal | D16: 4.2566775 | E16: 3.9633954 | F16: 4.1 | G16: - | H16: 4.102747 | I16: 4.8975555 | J16: 4.8848705 | K16: 4.2 | L16: - | M16: 3.6488923 | N16: 5.1315653 | O16: 4.0906674 | P16: - | Q16: - | R16: -
B18: General government deficit (% of GDP) | D18: -4.3645691 | E18: -4.34 | F18: -4.64548 | G18: -4.362 | H18: -4.31 | I18: -4.6794333 | J18: -4.2 | K18: -5.43587 | L18: -4.978 | M18: -4.33 | N18: -4.1194182 | O18: -4.1 | P18: - | Q18: -5.099 | R18: -
B19: Government debt (% of GDP) | D19: 62.770032 | E19: 63.3 | F19: 63.70506 | G19: 62.963 | H19: 63.18 | I19: 64.093674 | J19: 65.1 | K19: 66.85267 | L19: 65.458 | M19: 65.24 | N19: 64.332805 | O19: 66.2 | P19: - | Q19: 67.182 | R19: -
B21: Current account (% of GDP) | D21: =+[1]Súhrn!H49 -> -3.5665906 | E21: -1.528234 | F21: -3.3 | G21: -3.012 | H21: -3.6712501 | I21: =+[1]Súhrn!I49 -> -2.9195915 | J21: -1.1315795 | K21: -2.9 | L21: -1.722 | M21: -3.3165847 | N21: =+[1]Súhrn!J49 -> -1.6370322 | O21: -1.0772513 | P21: - | Q21: -1.381 | R21: -
B22: 1) IMF: index CPI
B23: Source:
B24: National Bank of Slovakia - Summer Medium-Term Forecast 2026Q3
B25: Institute for Financial Policy - Macroeconomic Forecast (June 2026), GG deficit (target) and GG debt from the Annual Progress Report of the Slovak Republic 2026
B26: European Commision - European Economic Forecast (Spring Forecast, May 2026)
B27: Internation Monetary Fund - World economic outlook (April 2026)
B28: OECD - Economic Outlook (June 2026)
